BEGIN:VCALENDAR
VERSION:2.0
PRODID:-//Green Ridge Primary Academy - ECPv6.13.2//NONSGML v1.0//EN
CALSCALE:GREGORIAN
METHOD:PUBLISH
X-WR-CALNAME:Green Ridge Primary Academy
X-ORIGINAL-URL:https://www.greenridgeacademy.co.uk
X-WR-CALDESC:Events for Green Ridge Primary Academy
REFRESH-INTERVAL;VALUE=DURATION:PT1H
X-Robots-Tag:noindex
X-PUBLISHED-TTL:PT1H
BEGIN:VTIMEZONE
TZID:Europe/London
BEGIN:DAYLIGHT
TZOFFSETFROM:+0000
TZOFFSETTO:+0100
TZNAME:BST
DTSTART:20260329T010000
END:DAYLIGHT
BEGIN:STANDARD
TZOFFSETFROM:+0100
TZOFFSETTO:+0000
TZNAME:GMT
DTSTART:20261025T010000
END:STANDARD
END:VTIMEZONE
BEGIN:VEVENT
DTSTART;TZID=Europe/London:20260313T090000
DTEND;TZID=Europe/London:20260313T124500
DTSTAMP:20260421T091813
CREATED:20260120T111951Z
LAST-MODIFIED:20260120T111951Z
UID:57986-1773392400-1773405900@www.greenridgeacademy.co.uk
SUMMARY:Y1 Beech Trip to Hartwell Stables
DESCRIPTION:
URL:https://www.greenridgeacademy.co.uk/event/y1-beech-trip-to-hartwell-stables/
END:VEVENT
BEGIN:VEVENT
DTSTART;TZID=Europe/London:20260313T151500
DTEND;TZID=Europe/London:20260313T164500
DTSTAMP:20260421T091813
CREATED:20250710T134005Z
LAST-MODIFIED:20250710T134005Z
UID:54366-1773414900-1773420300@www.greenridgeacademy.co.uk
SUMMARY:EYFS/KS1 PTA Cinema Event
DESCRIPTION:
URL:https://www.greenridgeacademy.co.uk/event/eyfs-ks1-pta-cinema-event-2/
END:VEVENT
END:VCALENDAR